BEGIN:VCALENDAR
VERSION:2.0
PRODID:-//Easington Village Parish Council//Meeting Calendar//EN
CALSCALE:GREGORIAN
METHOD:PUBLISH
BEGIN:VEVENT
UID:70358-20200317@easingtonvillageparishcouncil.gov.uk
DTSTAMP:20260419T141005Z
DTSTART;VALUE=DATE:20200317
DTEND;VALUE=DATE:20200318
SUMMARY:Cemetery and Grounds Sub-Committee &#8211\\; 17th March 2020
DESCRIPTION:Cemetery and Grounds Sub-Committee Meeting\nView details: https://easingtonvillageparishcouncil.gov.uk/meetings/cemetery-and-grounds-sub-committee-17th-march-2020/
URL:https://easingtonvillageparishcouncil.gov.uk/meetings/cemetery-and-grounds-sub-committee-17th-march-2020/
END:VEVENT
END:VCALENDAR
