BEGIN:VCALENDAR
VERSION:2.0
PRODID:-//Easington Village Parish Council//Meeting Calendar//EN
CALSCALE:GREGORIAN
METHOD:PUBLISH
BEGIN:VEVENT
UID:70360-20200121@easingtonvillageparishcouncil.gov.uk
DTSTAMP:20260421T080731Z
DTSTART;VALUE=DATE:20200121
DTEND;VALUE=DATE:20200122
SUMMARY:Cemetery and Grounds Sub-Committee &#8211\\; 21st January 2020
DESCRIPTION:Cemetery and Grounds Sub-Committee Meeting\nView details: https://easingtonvillageparishcouncil.gov.uk/meetings/cemetery-and-grounds-sub-committee-21st-january-2020/
URL:https://easingtonvillageparishcouncil.gov.uk/meetings/cemetery-and-grounds-sub-committee-21st-january-2020/
END:VEVENT
END:VCALENDAR
