BEGIN:VCALENDAR
VERSION:2.0
PRODID:-//Easington Village Parish Council//Meeting Calendar//EN
CALSCALE:GREGORIAN
METHOD:PUBLISH
BEGIN:VEVENT
UID:70562-20190311@easingtonvillageparishcouncil.gov.uk
DTSTAMP:20260421T082242Z
DTSTART;VALUE=DATE:20190311
DTEND;VALUE=DATE:20190312
SUMMARY:Monthly Meeting &#8211\\; 11th March 2019
DESCRIPTION:Ordinary Meeting of Easington Village Parish Council Meeting\nView details: https://easingtonvillageparishcouncil.gov.uk/meetings/monthly-meeting-11th-march-2019/
URL:https://easingtonvillageparishcouncil.gov.uk/meetings/monthly-meeting-11th-march-2019/
END:VEVENT
END:VCALENDAR
