BEGIN:VCALENDAR
VERSION:2.0
PRODID:-//Easington Village Parish Council//Meeting Calendar//EN
CALSCALE:GREGORIAN
METHOD:PUBLISH
BEGIN:VEVENT
UID:70575-20190708@easingtonvillageparishcouncil.gov.uk
DTSTAMP:20260423T102635Z
DTSTART;VALUE=DATE:20190708
DTEND;VALUE=DATE:20190709
SUMMARY:Monthly Meeting &#8211\\; 8th July 2019
DESCRIPTION:Ordinary Meeting of Easington Village Parish Council Meeting\nView details: https://easingtonvillageparishcouncil.gov.uk/meetings/monthly-meeting-8th-july-2019/
URL:https://easingtonvillageparishcouncil.gov.uk/meetings/monthly-meeting-8th-july-2019/
END:VEVENT
END:VCALENDAR
