BEGIN:VCALENDAR
VERSION:2.0
PRODID:-//Easington Village Parish Council//Meeting Calendar//EN
CALSCALE:GREGORIAN
METHOD:PUBLISH
BEGIN:VEVENT
UID:70593-20201108@easingtonvillageparishcouncil.gov.uk
DTSTAMP:20260421T082211Z
DTSTART;VALUE=DATE:20201108
DTEND;VALUE=DATE:20201109
SUMMARY:Monthly Meeting &#8211\\; 8th November 2020
DESCRIPTION:Ordinary Meeting of Easington Village Parish Council Meeting\nView details: https://easingtonvillageparishcouncil.gov.uk/meetings/monthly-meeting-8th-november-2020/
URL:https://easingtonvillageparishcouncil.gov.uk/meetings/monthly-meeting-8th-november-2020/
END:VEVENT
END:VCALENDAR
