BEGIN:VCALENDAR
VERSION:2.0
PRODID:-//Easington Village Parish Council//Meeting Calendar//EN
CALSCALE:GREGORIAN
METHOD:PUBLISH
BEGIN:VEVENT
UID:70623-20211213@easingtonvillageparishcouncil.gov.uk
DTSTAMP:20260419T142212Z
DTSTART;VALUE=DATE:20211213
DTEND;VALUE=DATE:20211214
SUMMARY:Monthly Meeting &#8211\\; 13th December 2021
DESCRIPTION:Ordinary Meeting of Easington Village Parish Council Meeting\nView details: https://easingtonvillageparishcouncil.gov.uk/meetings/monthly-meeting-13th-december-2021/
URL:https://easingtonvillageparishcouncil.gov.uk/meetings/monthly-meeting-13th-december-2021/
END:VEVENT
END:VCALENDAR
