BEGIN:VCALENDAR
VERSION:2.0
PRODID:-//Easington Village Parish Council//Meeting Calendar//EN
CALSCALE:GREGORIAN
METHOD:PUBLISH
BEGIN:VEVENT
UID:70626-20211108@easingtonvillageparishcouncil.gov.uk
DTSTAMP:20260423T090148Z
DTSTART;VALUE=DATE:20211108
DTEND;VALUE=DATE:20211109
SUMMARY:Monthly Meeting &#8211\\; 8th November 2021
DESCRIPTION:Ordinary Meeting of Easington Village Parish Council Meeting\nView details: https://easingtonvillageparishcouncil.gov.uk/meetings/monthly-meeting-8th-november-2021/
URL:https://easingtonvillageparishcouncil.gov.uk/meetings/monthly-meeting-8th-november-2021/
END:VEVENT
END:VCALENDAR
