BEGIN:VCALENDAR
VERSION:2.0
PRODID:-//Easington Village Parish Council//Meeting Calendar//EN
CALSCALE:GREGORIAN
METHOD:PUBLISH
BEGIN:VEVENT
UID:71047-20240402@easingtonvillageparishcouncil.gov.uk
DTSTAMP:20260421T082211Z
DTSTART;VALUE=DATE:20240402
DTEND;VALUE=DATE:20240403
SUMMARY:Council Ordinary Meeting April 2024
DESCRIPTION:Ordinary Meeting of Easington Village Parish Council Meeting\nView details: https://easingtonvillageparishcouncil.gov.uk/meetings/council-ordinary-meeting-april-2024/
URL:https://easingtonvillageparishcouncil.gov.uk/meetings/council-ordinary-meeting-april-2024/
END:VEVENT
END:VCALENDAR
