BEGIN:VCALENDAR
VERSION:2.0
PRODID:-//Easington Village Parish Council//Meeting Calendar//EN
CALSCALE:GREGORIAN
METHOD:PUBLISH
BEGIN:VEVENT
UID:71566-20250512@easingtonvillageparishcouncil.gov.uk
DTSTAMP:20260421T082323Z
DTSTART;VALUE=DATE:20250512
DTEND;VALUE=DATE:20250513
SUMMARY:Annual Meeting of the Parish Council 2025
DESCRIPTION:Annual Meeting of Council Meeting\nView details: https://easingtonvillageparishcouncil.gov.uk/meetings/annual-meeting-of-the-parish-council-2025/
URL:https://easingtonvillageparishcouncil.gov.uk/meetings/annual-meeting-of-the-parish-council-2025/
END:VEVENT
END:VCALENDAR
