BEGIN:VCALENDAR
VERSION:2.0
PRODID:-//Easington Village Parish Council//Meeting Calendar//EN
CALSCALE:GREGORIAN
METHOD:PUBLISH
BEGIN:VEVENT
UID:71862-20251111@easingtonvillageparishcouncil.gov.uk
DTSTAMP:20260423T090148Z
DTSTART;VALUE=DATE:20251111
DTEND;VALUE=DATE:20251112
SUMMARY:Ordinary Council Meeting November 2025
DESCRIPTION:Ordinary Meeting of Easington Village Parish Council Meeting\nView details: https://easingtonvillageparishcouncil.gov.uk/meetings/ordinary-council-meeting-november-2025/
URL:https://easingtonvillageparishcouncil.gov.uk/meetings/ordinary-council-meeting-november-2025/
END:VEVENT
END:VCALENDAR
