BEGIN:VCALENDAR
VERSION:2.0
PRODID:-//Easington Village Parish Council//Meeting Calendar//EN
CALSCALE:GREGORIAN
METHOD:PUBLISH
BEGIN:VEVENT
UID:71950-20260309@easingtonvillageparishcouncil.gov.uk
DTSTAMP:20260421T080833Z
DTSTART;VALUE=DATE:20260309
DTEND;VALUE=DATE:20260310
SUMMARY:Events Management Committee &#8211\\; Monday 09 March 2026
DESCRIPTION:Events Management Sub Committee Meeting\nView details: https://easingtonvillageparishcouncil.gov.uk/meetings/events-management-committee-2/
URL:https://easingtonvillageparishcouncil.gov.uk/meetings/events-management-committee-2/
END:VEVENT
END:VCALENDAR
